BEGIN:VCALENDAR
VERSION:2.0
PRODID:-//Unity Energetics Institute - ECPv6.0.13.1//NONSGML v1.0//EN
CALSCALE:GREGORIAN
METHOD:PUBLISH
X-ORIGINAL-URL:https://unityenergetics.org
X-WR-CALDESC:Unity Energetics Institute - Εκδηλώσεις
REFRESH-INTERVAL;VALUE=DURATION:PT1H
X-Robots-Tag:noindex
X-PUBLISHED-TTL:PT1H
BEGIN:VTIMEZONE
TZID:Europe/Athens
BEGIN:DAYLIGHT
TZOFFSETFROM:+0200
TZOFFSETTO:+0300
TZNAME:EEST
DTSTART:20220327T010000
END:DAYLIGHT
BEGIN:STANDARD
TZOFFSETFROM:+0300
TZOFFSETTO:+0200
TZNAME:EET
DTSTART:20221030T010000
END:STANDARD
END:VTIMEZONE
BEGIN:VEVENT
DTSTART;TZID=Europe/Athens:20220504T170000
DTEND;TZID=Europe/Athens:20220504T213000
DTSTAMP:20260426T050951
CREATED:20210821T232426Z
LAST-MODIFIED:20220618T075238Z
UID:17877-1651683600-1651699800@unityenergetics.org
SUMMARY:ΔΩΡΕΑΝ ΔΙΑΔΙΚΤΥΑΚΟ  Βιωματικό Εκπαιδευτικό Σεμινάριο\, με θέμα: «Ψυχοθεραπεία Τραύματος & Βασικές Αρχές Σωματικά Επικεντρωμένης Ψυχοθεραπείας Gestalt»
DESCRIPTION:ΔΩΡΕΑΝ ΔΙΑΔΙΚΤΥΑΚΟ\n Βιωματικό Εκπαιδευτικό Σεμινάριο\, με θέμα:\n«Ψυχοθεραπεία Τραύματος & Βασικές Αρχές Σωματικά Επικεντρωμένης Ψυχοθεραπείας Gestalt»\n\nΓΝΩΡΙΜΙΑ με τη μεθοδολογία της\nΣΩΜΑΤΙΚΑ ΕΠΙΚΕΝΤΡΩΜΕΝΗΣ ΨΥΧΟΘΕΡΑΠΕΙΑΣ GESTALT\nμια καινοτόμος ενοποίηση 3 ψυχοθεραπευτικών προσεγγίσεων\nΕΠΑΝΟΡΘΩΤΙΚΗ ΨΥΧΟΘΕΡΑΠΕΙΑ\nμε άμεσα θεραπευτικά αποτελέσματα\nστα βαθύτερα στρώματα του ψυχικού τραύματος & της Ζωτικής Δύναμης για την ενοποίηση και ενδυνάμωση του ατόμου\n\n\nΣυμπληρώστε τη ΦΟΡΜΑ ΕΝΔΙΑΦΕΡΟΝΤΟΣ\n\nΠεριορισμένος αριθμός συμμετοχών\n\nΠΛΗΡΟΦΟΡΙΕΣ – ΕΓΓΡΑΦΕΣ\nΤηλ: 6936 776333\n\n\n\nΤΟ ΔΩΡΕΑΝ ΕΚΠΑΙΔΕΥΤΙΚΟ ΣΕΜΙΝΑΡΙΟ ΑΠΟΣΚΟΠΕΙ \nσε μία εισαγωγικού επιπέδου επισκόπηση της θεωρίας και επιπρόσθετα σε μία βιωματική γνωριμία με τη διδασκόμενη μεθοδολογία (Σ.Ε.ΨΥ.G).\nΤΟ ΒΙΩΜΑΤΙΚΟ ΣΚΕΛΟΣ ΤΟΥ ΣΕΜΙΝΑΡΙΟΥ ΠΕΡΙΛΑΜΒΑΝΕΙ: \nομαδικές ασκήσεις καθώς επίσης και\nμία ατομική θεραπευτική επίδειξη.\n\n\nΣΕ ΑΥΤΟ ΤΟ ΔΩΡΕΑΝ ΕΚΠΑΙΔΕΥΤΙΚΟ ΣΕΜΙΝΑΡΙΟ ΘΑ ΓΙΝΕΙ ΕΙΣΑΓΩΓΙΚΗ ΠΑΡΟΥΣΙΑΣΗ ΤΗΣ ΣΩΜΑΤΙΚΑ ΕΠΙΚΕΝΤΡΩΜΕΝΗΣ ΨΥΧΟΘΕΡΑΠΕΙΑΣ GESTALT & ΤΗΣ ΣΧΕΣΗΣ ΤΗΣ ΜΕ ΤΟ ΤΡΑΥΜΑ \nΗ Σ.Ε.ΨΥ.G. είναι μία νέα πρωτοπόρα ψυχοθεραπευτική προσέγγιση που ανήκει στον ευρύτερο χώρο της Ραϊχικής Σωματικής Ψυχοθεραπείας με τα δικά της διακριτά στοιχεία\, τόσο στη θεωρία όσο και στη μεθοδολογία & τις τεχνικές και με εξαιρετικά αποτελέσματα στη ψυχοθεραπεία του ατομικού και του προγονικού τραύματος\, επενεργώντας άμεσα στον τραυματισμένο Ψυχικό Πυρήνα του θεραπευόμενου. \n   Βασίζεται σε 3 ευρέως διαδεδομένες ψυχοθεραπευτικές προσεγγίσεις με μεγάλη επιρροή\, από τις οποίες με σεβασμό αντλεί γνώση (Ραϊχική Σωματική Ψυχοθεραπεία\, κλασσική Θεραπεία Gestalt και Αναδρομική Ψυχοθεραπεία)\, και λειτουργεί μέσα σε ένα Υπερπροσωπικό πλαίσιο. Ωστόσο δεν είναι απλώς μία σύνθεση ή ένας συνδυασμός αυτών αλλά μία νέα ψυχοθεραπευτική προσέγγιση που:  \n\nΕνοποιεί τις γνώσεις τους υπό μία νέα οπτική (Unity Energetics)\,\nΤις επεκτείνει θεωρητικά\,\nΤις εμπλουτίζει με μεθοδολογική καινοτομία\, με προηγμένα ψυχοθεραπευτικά εργαλεία & πρωτότυπες τεχνικές\, και\nΕντάσσει\, σε αυτή τη διαδικασία ενοποίησης και γένεσης της προσέγγισης αυτής\, την Ψυχο-Ενεργειακή Θεραπεία η οποία είναι μια θεραπευτική γνώση του Unity Energetics Institute από το 1988.\n\nΕΝΔΕΙΚΤΙΚΑ\, Ο ΕΚΠΑΙΔΕΥΤΗΣ ΘΑ ΑΝΑΦΕΡΘΕΙ : \n\n1) Νοητικές και βιωματικές προσεγγίσεις στην ψυχοθεραπεία:\n\nΗ ψυχανάλυση (η πρώτη μορφή ψυχοθεραπείας) είναι εστιασμένη στη νοητική ανάλυση των συμπεριφορών και την κατανόηση της σύνδεσης των εμπειριών της παιδικής ηλικίας με τα προβλήματα που αντιμετωπίζει ένας ενήλικας. Την ίδια εστίαση ακολουθούν η πλειονότητα των ψυχοθεραπευτικών προσεγγίσεων π.χ. Γνωστική Συμπεριφοριστική Θεραπεία\, Συναλλακτική Ανάλυση\, Συστημική Θεραπεία κλπ\nΑπό τις βιωματικές προσεγγίσεις αυτές που πραγματικά επικεντρώνονται στην εστίασητης συνειδητότητας στο “Εδώ-και-Τώρα” και ξεχωρίζουν από τις υπόλοιπες είναι η Θεραπεία Gestalt και η Σωματική ψυχοθεραπεία.\n\n\n2) Επισκόπηση των βασικών εννοιών της Θεραπείας Gestalt\n\nΕστίαση της συνειδητότητας στο “Εδώ-και-Τώρα”.\nΓλώσσα της Παρούσης Στιγμής\, της Αυτο-Ευθύνης & της Αυτονομίας.\nΑκολουθώ τη ροή των γεγονότων (Don’t push the river).\nΗ πεμπτουσία της Τεχνικής της Άδειας Καρέκλας ως ένα τέχνασμα εξωτερίκευσης όλων των ψυχικών μορφών & διεργασιών με στόχο την βιωματική επεξεργασία αυτών στο “Εδώ-και-Τώρα”.\n\n\n3) Επισκόπηση των βασικών εννοιών της Σωματικής ψυχοθεραπείας.\n\nΞεμπλοκάρισμα χρόνιων ψυχοσωματικών εντάσεων που οδηγούν σε μυϊκή σκλήρυνση.\nΆνοιγμα της αναπνοής μέσω διαφόρων ασκήσεων.\nΑνάλυση του χαρακτήρα και επεξεργασία των τραυματικών εμπειριών\n\n\n4) Όλα τα ελκυστικά στοιχείατου Mindfulness και του 3ου Κύματος της Γνωστικής Συμπεριφοριστικής Θεραπείας (CBT) – που έχουν καταστεί ιδιαίτερα δημοφιλείς –  επί της ουσίας βασίζονται ή αποτελούν απλές αντιγραφές θεμελιωδών στοιχείων & τεχνικών της Θεραπείας Gestalt και της Σωματικής ψυχοθεραπείας. Αυτή η παρατήρηση κατά την άποψή μας αποδεικνύει την σημαντικότητα της Δύναμης του ΕΔΩ & ΤΩΡΑ για την επίτευξη ουσιαστικών ψυχοθεραπευτικών αλλαγών που διαρκούν.\n5) Ο ακρογωνιαίος λίθος της «Σωματικά Επικεντρωμένης Ψυχοθεραπείας Gestalt» είναι η συνεχής εστίαση στην επεξεργασία του οποιοδήποτε προβλήματος φέρει ο θεραπευόμενος αποκλειστικά και μόνο στο “Εδώ-και-Τώρα”.\n\nΚαλούμε τον θεραπευόμενο να μην διηγείται ιστορίες ή να αναπολεί ή να γενικολογεί κατά την συνεδρία αλλά να εστιάζεται σε συγκεκριμένα στιγμιότυπα όπου εκδηλώθηκε το πρόβλημα. Η αναβίωση συγκεκριμένων στιγμιότυπων προσφέρει στην ψυχοθεραπεία μίαασύλληπτη δυναμική διότι:\n\nO θεραπευόμενος δύναται πλέον όχι μόνο απλά να αναβιώσει ένα στιγμιότυπο αλλά επιπρόσθετα να αναδιαμορφώσει την εμπειρία (που είχε στο παρελθόν) αξιοποιώντας την βίωση της υψηλής φόρτισης και της απρόσμενα μεγάλης δύναμης που εκλύεται στο “Εδώ-και-Τώρα” Έτσι την αναπαλαιώνει ουσιαστικά.\nΕπιπρόσθετα δύναται να δημιουργηθούν επανορθωτικές εμπειρίες – με τη συμβολή του ψυχοθεραπευτή ή και των μελών της ομάδας – που θα επανορθώσουν τα προβληματικά εντυπώματα που δημιούργησαν στον ψυχισμό οι τραυματικές εμπειρίες.\n\n\n\n\n\nΓια την επίτευξη του βέλτιστου αποτελέσματος χρησιμοποιούμε συνδυαστικά τεχνικές & εργαλεία της Θεραπείας Gestalt και της Σωματικής ψυχοθεραπείας. \n\n\n\n\n\n\nΤΙ ΕΙΝΑΙ Η ΣΩΜΑΤΙΚΑ ΕΠΙΚΕΝΤΡΩΜΕΝΗ ΨΥΧΟΘΕΡΑΠΕΙΑ GESTALT (Σ.Ε.ΨΥ.G.) ; \nΗ Σ.Ε.ΨΥ.G. είναι μία νέα πρωτοπόρα ψυχοθεραπευτική προσέγγιση που ανήκει στον ευρύτερο χώρο της Ραϊχικής Σωματικής Ψυχοθεραπείας με τα δικά της διακριτά στοιχεία\, τόσο στη θεωρία όσο και στη μεθοδολογία & τις τεχνικές και με εξαιρετικά αποτελέσματα στη θεραπεία του ατομικού και του προγονικού τραύματος.\nΒασίζεται σε 3 ευρέως διαδεδομένες ψυχοθεραπευτικές προσεγγίσεις με μεγάλη επιρροή\, από τις οποίες με σεβασμό αντλεί γνώση (Ραϊχική Σωματική Ψυχοθεραπεία\, κλασσική Θεραπεία Gestalt και Αναδρομική Ψυχοθεραπεία). Ωστόσο δεν είναι απλώς μία σύνθεση ή ένας συνδυασμός αυτών αλλά μία νέα ψυχοθεραπευτική προσέγγιση που: α) ενοποιεί τις γνώσεις τους υπό μία νέα οπτική (Unity Energetics)\, β) τις επεκτείνει θεωρητικά και γ) τις εμπλουτίζει με μεθοδολογική καινοτομία\, με προηγμένα ψυχοθεραπευτικά εργαλεία & πρωτότυπες τεχνικές.\n\n\n\n\n\n \n\nΒΙΟΓΡΑΦΙΚΟ ΕΚΠΑΙΔΕΥΤΗ\nΟ Στάθης Λάζαρης είναι πτυχιούχος ψυχολογίας του πανεπιστημίου Brunel του Λονδίνου (1983)\, και Σωματικός Ψυχοθεραπευτής με εμπειρία 35 ετών. Έχει εξειδικευτεί στη Νεο-Ραϊχική μέθοδο Σωματικής Ψυχοθεραπείας Radix. Παράλληλα έχει εκπαιδευτεί σε Ινστιτούτα του Λονδίνου και της Γερμανίας σε πολλές προσεγγίσεις και μεθόδους Ανθρωπιστικής και Νεο-Ραϊχικής Ψυχοθεραπείας: Radix\, BodymindTherapy\, Bodynamic Therapy\, Gestalt Therapy\, Primal Intergration\, Αλληλο-Συμβουλευτικήκ.α. (1981-1988) καθώς και στο Bodywork: Postural Intergration\, Pulsing κ.α. (1982-1984).\nΑπό το 1984 μέχρι σήμερα ασχολείται με εμψύχωση εντατικών μαραθώνιων προσωπικής ανάπτυξης και με διδασκαλία εκπαιδευτικών σεμιναρίων στην Ελλάδα\, την Κύπρο\, την Αγγλία και την Αυστρία. Είναι συγγραφέας βιβλίων και άρθρων\, εμπνευστής\, δημιουργός και εκπαιδευτής της Ψυχο-Ενεργειακής Θεραπείας\, του Ψυχο-Ενεργειακού BodyWork (από το 1986) και του Unity Energetics. Το 1986 ίδρυσε το “ΚΕΝΤΡΟ ΑΝΘΡΩΠΙΣΤΙΚΗΣ ΚΑΙ ΝΕΟ-ΡΑΪΧΙΚΗΣ ΨΥΧΟΛΟΓΙΑΣ – ΨΥΧΟΘΕΡΑΠΕΙΑΣ”\, το οποίο ανέπτυξε πρωτοποριακή δράση και το 1992 ίδρυσε το Κέντρο προσωπικής ανάπτυξης “ΔΙΟΔΟΣ” που τα τελευταία χρόνια λειτουργεί ως Σχολή Επαγγελματικών Εκπαιδεύσεων.\n\n\n\n\nΣυμπληρώστε τη ΦΟΡΜΑ ΕΝΔΙΑΦΕΡΟΝΤΟΣ\n\nΠεριορισμένος αριθμός συμμετοχών\n\nΠΛΗΡΟΦΟΡΙΕΣ – ΕΓΓΡΑΦΕΣ\nΤηλ: 6936 776333
URL:https://unityenergetics.org/ekdilosi/dorean-diadiktyako-viomatiko-ekpaideftiko-seminario-me-thema-psychotherapeia-travmatos-vasikes-arches-somatika-epikentromenis-psychotherapeias-gestalt-2021-09-26-2021-12-07-2022-03-30-2022-05-04/2022-05-04/
LOCATION:ONLINE\, ONLINE\, ATHENS\, 11471\, Ελλάδα
CATEGORIES:Δωρεάν - Μίνι Εισαγωγικά,Δωρεάν Σεμινάρια
ATTACH;FMTTYPE=image/jpeg:https://unityenergetics.org/wp-content/uploads/2021/08/244557039_418794409683017_8570931508757295175_n.jpg
ORGANIZER;CN="UNITY%20ENERGETICS%20INSTITUTE":MAILTO:unityenergetics@gmail.com
END:VEVENT
END:VCALENDAR