BEGIN:VCALENDAR
VERSION:2.0
PRODID:-//Unity Energetics Institute - ECPv6.0.13.1//NONSGML v1.0//EN
CALSCALE:GREGORIAN
METHOD:PUBLISH
X-WR-CALNAME:Unity Energetics Institute
X-ORIGINAL-URL:https://unityenergetics.org
X-WR-CALDESC:Unity Energetics Institute - Εκδηλώσεις
REFRESH-INTERVAL;VALUE=DURATION:PT1H
X-Robots-Tag:noindex
X-PUBLISHED-TTL:PT1H
BEGIN:VTIMEZONE
TZID:Europe/Athens
BEGIN:DAYLIGHT
TZOFFSETFROM:+0200
TZOFFSETTO:+0300
TZNAME:EEST
DTSTART:20230326T010000
END:DAYLIGHT
BEGIN:STANDARD
TZOFFSETFROM:+0300
TZOFFSETTO:+0200
TZNAME:EET
DTSTART:20231029T010000
END:STANDARD
END:VTIMEZONE
BEGIN:VEVENT
DTSTART;TZID=Europe/Athens:20230928T190000
DTEND;TZID=Europe/Athens:20230928T230000
DTSTAMP:20260426T013104
CREATED:20230919T153208Z
LAST-MODIFIED:20230921T122323Z
UID:19453-1695927600-1695942000@unityenergetics.org
SUMMARY:ΘΕΣΣΑΛΟΝΙΚΗ-Δωρεάν Βιωματικό Εκπαιδευτικό Σεμινάριο Επανορθωτική Ψυχοθεραπεία Τραύματος - Gestalt
DESCRIPTION:Δωρεάν Βιωματικό Εκπαιδευτικό Σεμινάριο   Επανορθωτική Ψυχοθεραπεία Τραύματος​​  & Σ. Ε. Τεχνική της Άδειας Καρέκλας -​​ Gestalt    ΓΝΩΡΙΜΙΑ με τη ΜΕΘΟΔΟΛΟΓΙΑ: ΣΩΜΑΤΙΚΑ ΕΠΙΚΕΝΤΡΩΜΕΝΗ ΨΥΧΟΘΕΡΑΠΕΙΑ GESTALT (Σ.Ε.ΨΥ.G.) Μια καινοτόμος ενοποίηση 3 ψυχοθεραπευτικών προσεγγίσεων με άμεσα θεραπευτικά αποτελέσματα στα βαθύτερα στρώματα του ψυχικού τραύματος & της Ζωτικής Δύναμης για την ενοποίηση και ενδυνάμωση του ατόμου. ΚΑΙ την ΤΕΧΝΙΚΗ: ΣΩΜΑΤΙΚΑ ΕΠΙΚΕΝΤΡΩΜΕΝΗ ΤΕΧΝΙΚΗ ΤΗΣ ΑΔΕΙΑΣ ΚΑΡΕΚΛΑΣ -​​ GESTALT Ένα​​ πρωτοποριακό​​ ψυχοθεραπευτικό​​ εργαλείο​​ άμεσης​​ αποτελεσματικότητας\,​​ απολύτως​​ εξειδικευμένο​​ στην​​ εις​​ βάθος​​ Ψυχοθεραπεία​​ του​​ Τραύματος\,​​ το​​ οποίο​​ λειτουργεί​​ δυναμικά​​ μέσα​​ σε​​ ένα​​ πλαίσιο​​ αυξημένης​​ Βιο-ενεργειακής​​ φόρτισης​​ &​​ επικέντρωσης​​ της​​ συνειδητότητας​​ στο​​ σώμα.   ΑΠΑΡΑΙΤΗΤΗ Η ΔΗΛΩΣΗ ΣΥΜΜΕΤΟΧΗΣ ΣΥΜΠΛΗΡΩΣΤΕ ΤΗΝ ΦΟΡΦΑ ΕΔΩ   Η​​ Σ.Ε.ΨΥ.G.​​ είναι μία νέα πρωτοπόρα ψυχοθεραπευτική προσέγγιση με εξαιρετικά αποτελέσματα στη ψυχοθεραπεία του ατομικού και του προγονικού τραύματος\, επενεργώντας άμεσα στον τραυματισμένο Ψυχικό Πυρήνα του θεραπευόμενου. Βασίζεται σε 3 ευρέως διαδεδομένες ψυχοθεραπευτικές προσεγγίσεις με μεγάλη επιρροή\, από τις οποίες με σεβασμό αντλεί γνώση (Ραϊχική Σωματική Ψυχοθεραπεία\, κλασσική Θεραπεία Gestalt και Αναδρομική Ψυχοθεραπεία)\, και λειτουργεί μέσα σε ένα Υπερπροσωπικό πλαίσιο.​​ ΠΑΡΑΠΟΜΠΗ (αναλυτικά ο ορισμός) ​​ Με την μεθοδολογία αυτή ο θεραπευόμενος δύναται να ανασύρει και να αναδιαμορφώσει θεραπευτικά τις τραυματικές εμπειρίες που φέρει​​ από την αυγή της ζωής του αλλά και από τους προγόνους του\, μέσα από την βίωση υψηλής φόρτισης και από την πρόκληση του ξυπνήματος της ζωτικής του δύναμης που εκλύεται απρόσμενα μεγάλη στο “Εδώ-και-Τώρα”. Έτσι μπορεί ουσιαστικά να «αναπαλαιώσει» τα δύσκολα βιώματα και να δημιουργήσει επανορθωτικές εμπειρίες που θα λειάνουν και επουλώσουν τα προβληματικά εντυπώματα που δημιούργησαν στον ψυχισμό του οι τραυματικές εμπειρίες. Με αυτή τη μεθοδολογία\, βοηθούμε τον θεραπευόμενο σταδιακά να επαναδιαρθρώσει θεραπευτικά τον τραυματισμένο εσωτερικό του πυρήνα\, να ενοποιήσει την οντότητά του και να άρει τα εμπόδια που σταματούν την βίωση και έκφραση της Ζωτικής του Δύναμης στη ζωή του σήμερα.​​ ΠΑΡΑΠΟΜΠΗ (για τη μεθοδολογία)       Η​​ ΣΩΜΑΤΙΚΑ ΕΠΙΚΕΝΤΡΩΜΕΝΗ ΤΕΧΝΙΚΗ ΤΗΣ ΑΔΕΙΑΣ ΚΑΡΕΚΛΑΣ –​​ GESTALT​​ χαίρει της ευρείας αποδοχής σχεδόν σε όλο το φάσμα των ψυχοθεραπευτικών μεθόδων διότι είναι ένα κορυφαίο βιωματικό ψυχοθεραπευτικό εργαλείο το οποίο: • Ενισχύει την εξωτερίκευση του καταπιεσμένου ψυχικού υλικού & την αναπαράστασή του στον χώρο (σε αντικείμενα)\, ώστε γίνεται πολύ ευκολότερη η συνειδητοποίηση και επεξεργασία του. • Ανασυγκροτεί & επαναενοποιεί το κατακερματισμένο ψυχικό υλικό του θεραπευόμενου και μέσα από τη χρήση των διπόλων • Αποκαλύπτει τους αυτοματοποιημένους εσωτερικούς διαλόγους\, ώστε εύκολα να αναγνωριστούν και επιλυθούν οι σχετικές ψυχικές συγκρούσεις. • Εμπλουτίζει τις λεκτικού\, νοητικού τύπου προσεγγίσεις\, συμπεριλαμβανομένων της Ψυχοδυναμικής και της Γνωσιακής Συμπεριφοριστικής Ψυχοθεραπείας\, προσφέροντάς τους μία σαφή βιωματική μεθοδολογία και βοηθά τον θεραπευτή να αποφεύγει το αναμάσημα των ιδίων θεμάτων στις συνεδρίες και να αναδεικνύει διεξόδους στους φαύλους κύκλους συμπεριφοράς του θεραπευόμενου. • Σε συνδυασμό δε με την γλώσσα της αυτό-ευθύνης και αυτονομίας\, αποκαλύπτει στον θεραπευτή σε χρόνο ρεκόρ τις αντιστάσεις\, τους αμυντικούς μηχανισμούς και τα παιχνίδια που χρησιμοποιεί ο θεραπευόμενος για την αποφυγή ανάληψης της ευθύνης της ζωής του.​​  ​​ Στη Σωματικά Επικεντρωμένη Τεχνική της Άδειας Καρέκλας GESTALT ενσωματώνουμε νέα λειτουργικά στοιχεία\, πρωτότυπες τεχνικές και εφαρμογές\, πολύ πιο προηγμένα από την κλασική διδασκαλία της\, όπως: · Οι Προβολικές ιδιότητες της & οι χρήσεις της​​  · Οι Σχεσιακές Χωροταξικές Δυναμικές που αναδύονται​​  · Η Σπλαχνική Βίωση Συναισθημάτων​​  · Το Εσωτερικό Αναπνευστικό Κανάλι​​  · Η απεριόριστη δύναμη & δυναμική του Σωματικά Επικεντρωμένου “Εδώ και Τώρα” και · πως μεγιστοποιείτε η βίωση του με την ενίσχυση του Προσωπικού Χώρου και την ενεργοποίηση της Σπλαχνικής Αναπνοής & της Πίσω Μυϊκής Αλυσίδας​​  · Η μεγάλη λειτουργική δυναμική που προσδίδει στις αναδρομές και στις ψυχικές διεργασίες γενικότερα η βίωση του Σωματικά Επικεντρωμένου “Εδώ και Τώρα”.​​ ΠΑΡΑΠΟΜΠΗ (των λειτουργιών της στη ΣΕΨΥG)               ΤΟ ΔΩΡΕΑΝ ΕΚΠΑΙΔΕΥΤΙΚΟ ΣΕΜΙΝΑΡΙΟ ΑΠΟΣΚΟΠΕΙ σε μία εισαγωγικού επιπέδου επισκόπηση της θεωρίας και επιπρόσθετα σε μία βιωματική γνωριμία με τη διδασκόμενη μεθοδολογία (Σ.Ε.ΨΥ.G).   ΤΟ ΒΙΩΜΑΤΙΚΟ ΣΚΕΛΟΣ ΤΟΥ ΣΕΜΙΝΑΡΙΟΥ ΠΕΡΙΛΑΜΒΑΝΕΙ: ομαδικές ασκήσεις καθώς επίσης καιμία ατομική θεραπευτική επίδειξη.                 Στοιχεία επικοινωνίας​​ : Τηλέφωνα  : ​​ 6936 776333\, 6908 511807\, 210 9916096 Viber​​ call : 0030 6936 776333 info@unityenergetics.org\,​​ apolonos23@gmail.com www.unityenergetics.org  
URL:https://unityenergetics.org/ekdilosi/thessaloniki-dorean-viomatiko-ekpaideftiko-seminario-epanorthotiki-psychotherapeia-travmatos-s-e-techniki-tis-adeias-kareklas-gestalt/
LOCATION:ΘΕΣΣΑΛΟΝΙΚΗ – ΚΕΝΤΡΟ\, Πολυτεχνείου 37\, ΘΕΣΣΑΛΟΝΙΚΗ\, Ελλάδα
ATTACH;FMTTYPE=image/png:https://unityenergetics.org/wp-content/uploads/2023/09/Screenshot_115.png
END:VEVENT
BEGIN:VEVENT
DTSTART;TZID=Europe/Athens:20230929T120000
DTEND;TZID=Europe/Athens:20230929T183000
DTSTAMP:20260426T013104
CREATED:20230921T130226Z
LAST-MODIFIED:20230921T130226Z
UID:19464-1695988800-1696012200@unityenergetics.org
SUMMARY:ΘΕΣΣΑΛΟΝΙΚΗ-3-4ήμερη Βιωματική Επαγγελματική Εκπαίδευση στην Σωματικά Επικεντρωμένη Τεχνική της Άδειας Καρέκλας
DESCRIPTION:               3-4ήμερη Βιωματική Επαγγελματική Εκπαίδευση   στην   Σωματικά Επικεντρωμένη Τεχνική της Άδειας Καρέκλας (Σωματικά Επικεντρωμένη Ψυχοθεραπεία Gestalt)       Έναρξη  Παρασκευή 23/9       ΠΕΡΙΛΑΜΒΑΝΕΙ:           4 Εκπαιδευτικές Ενότητες.         Ζωντανές θεραπευτικές επιδείξεις (Συνολικά 3-4) και         Εκτεταμένη επιβλεπόμενη εξάσκηση των σπουδαστών στην μεθοδολογία. (Συνολικά 3-4 φορές \, 11- 12 ώρες)   Η διδασκαλία προσφέρεται με δυνατότητα ΜΕΙΚΤΗΣ ΠΑΡΑΚΟΛΟΥΘΗΣΗΣ\, με συνδυασμό (Α) ΔΙΑ ΖΩΣΗΣ μαθημάτων & εργαστηρίων σε ολιγομελή τμήματα και(Β) ΣΥΓΧΡΟΝΗΣ/ΑΣΥΓΧΡΟΝΗΣ  τηλεκπαίδευσης.   Συνολική ΔΙΑΡΚΕΙΑ: 40 εκπ. Ώρες           ΠΡΟΓΡΑΜΜΑ ΕΚΠΑΙΔΕΥΣΗΣ:     ΔΙΑΖΩΣΗΣ  ή  ΔΙΑΔΙΚΤΥΑΚΑ  ή   Ασύγχρονα   1ο  Μέρος :  Σάββατο  23/9  2ο   Μέρος :  Κυριακή  24/9                           ​​                        ​​ ​​  ​​  ​​ ​​ ​​ ​​ ​​ ​​ ​​ ​​ ​​ ​​ ​​ ​​ ​​ ​​ ​​ ​​ ​​ ​​ ​​ ​​ ​​ ​​ ​​ ​​ ​​ ​​ ​​ ​​ ​​ ​​ ​​ ​​ ​​ ​​ ​​ ​​ ​​ ​​ ​​ ​​ ​​ ​​ ​​ ​​ ​​ ​​ ​​ ​​ ​​ ​​ ​​ ​​ ​​ ​​ ​​ ​​ ​​ ​​ ​​​​ 1ο  Μέρος :  Παρασκευή  29/9  στη Θεσσαλονίκη          ΔΙΑ ΖΩΣΗΣ Επιβλεπόμενη εξάσκηση των σπουδαστών στην μεθοδολογία  &  3ο   Μέρος      στην ΑΘΗΝΑ:  Σάββατο  23/9\, Κυριακή 24/9  & Κυριακή  15/10    στη ΘΕΣΣΑΛΟΝΙΚΗ: Παρασκευή 20/10\, Σάββατο 21/10 & Κυριακή  22/10             Ενδεχόμενη ΕΠΑΝΑΛΗΨΗ Εκπαίδευσης στο τριήμερο 13 - 15 Οκτωβρίου στην ΑΘΗΝΑ           Πατήστε ΕΔΩ για να συμπληρώσετε τη ΦΟΡΜΑ ΕΝΔΙΑΦΕΡΟΝΤΟΣ         Η «Σωματικά Επικεντρωμένη Τεχνική της Άδειας Καρέκλας»   είναι ένα πρωτοποριακό ψυχοθεραπευτικό εργαλείο  άμεσης αποτελεσματικότητας απολύτως εξειδικευμένο στην εις βάθος Ψυχοθεραπεία του Τραύματος\, το οποίο λειτουργεί δυναμικά μέσα σε ένα πλαίσιο αυξημένης Βιο-ενεργειακής φόρτισης & επικέντρωσης της συνειδητότητας στο σώμα.      Η ΒΙΩΜΑΤΙΚΗ ΕΠΑΓΓΕΛΜΑΤΙΚΗ ΕΚΠΑΙΔΕΥΣΗ (40 ωρών) που προσφέρουμε είναι μια πολύ περιεκτική εκπαίδευση ψυχοθεραπείας που καλύπτει μεγάλο εύρος θεραπευτικών θεμάτων. Από τις πρώτες ώρες της εκπαίδευσης οι ψυχοσωματικές αισθήσεις\, οι ψυχοθεραπευτικές λειτουργίες της Αναπνοής & Σώματος και οι Μορφο-Διαταξικές προβολικές ιδιότητες αναδεικνύονται στο θεραπευτικό προσκήνιο και καταλαμβάνουν την πολύτιμη θέση που τους αρμόζει στην κλασική «Τεχνική της Άδειας Καρέκλας». Δίνεται μεγάλη έμφαση στην μεθοδική και ενδελεχή κατάρτιση επί όλων των τεχνικών λεπτομερειών.   Οι επαγγελματίες ψυχικής υγείας με την 4ήμερη Εκπαίδευση στην «Σωματικά Επικεντρωμένη Τεχνική της Άδειας Καρέκλας»(Σ.Ε.Τ.Α.Κ.) θα κατακτήσουν την:  Ικανότητα επιτυχούς εφαρμογής της διδασκόμενης Μεθοδολογίας Σ.Ε.Τ.Α.Κ. σε μεγάλη γκάμα θεραπευτικών πεδίων.   Δυνατότητα άμεσης ενσωμάτωσης των εργαλείων της Σ.Ε.Τ.Α.Κ. στη θεραπευτική τους πρακτική.     Πατήστε ΕΔΩ για την αναλυτική περιγραφή και τα περιεχόμενα         Τι είναι η Σωματικά Επικεντρωμένη Τεχνική της Άδειας Καρέκλας  (Σ.Ε. Τ.Α.Κ.) ;   Η “θαυματουργή” «Τεχνική της Άδειας Καρέκλας» (Empty Chair Technique) είναι μια θεμελιώδης τεχνική της Κλασσικής Θεραπείας Gestalt την οποία επινόησε ο Fritz Perls την δεκαετία του 1960. Είναι ένα εξαιρετικό ψυχοθεραπευτικό εργαλείο που χαίρει ευρείας αποδοχής σχεδόν σε όλο το φάσμα των ψυχοθεραπευτικών μεθόδων ανά την υφήλιο.   Πρωτοποριακή εξέλιξη   Η «Σωματικά Επικεντρωμένη Τεχνική της Άδειας Καρέκλας» (Σ.Ε.Τ.Α.Κ.)  είναι μία πρωτοποριακή εξέλιξη της «κλασσικής Τεχνικής της Άδειας Καρέκλας». Προήλθε από την διεύρυνση της θεωρητικής βάσης της κλασσικής Θεραπείας Gestalt και την ενοποίηση : Τεχνικών της Σωματικής Ψυχοθεραπείας για διεύρυνση της σωματικής αυτοεπίγνωσης\, την Σπλαχνική Βίωση των Συναισθημάτων\, το Άνοιγμα της Αναπνοής & το αυξημένο επίπεδο Βιοενεργειακής Φόρτισης της συνεδρίας. Της Ψυχοδυναμικής και Διαγενεαλογικής οπτικής για την πολυεπίπεδη κατανόηση των παγιωμένων μοτίβων συμπεριφοράς και ψυχικών προβλημάτων. Καινοτόμων θεωρητικών ιδεών και πολλών τεχνικών και μεθοδολογικών πρωτοτυπιών του Unity Energetics Institute και της Σωματικά Επικεντρωμένης Ψυχοθεραπείας Gestalt (Σ.Ε.ΨΥ.G.).    Καινοτόμο ψυχοθεραπευτικό εργαλείο για την Ψυχοθεραπεία του Τραύματος   Η ενοποίηση αυτή καθιστά την Σωματικά Επικεντρωμένη Τεχνική της Άδειας Καρέκλας ένα καινοτόμο και κυριολεκτικά “θαυματουργό” εργαλείο με απεριόριστο εύρος εφαρμογών και απολύτως εξειδικευμένο για την εις βάθος Ψυχοθεραπεία του Ατομικού & Προγονικού Τραύματος.    Απεριόριστα πεδία ΘΕΡΑΠΕΥΤΙΚΗΣ ΕΦΑΡΜΟΓΗΣ   Στα χέρια ενός καλά εκπαιδευμένου ψυχοθεραπευτή η Σ.Ε. Τεχνική της Άδειας Καρέκλας χρησιμοποιείται με απαράμιλλη αποτελεσματικότητα για την αντιμετώπιση πολύ μεγάλου  φάσματος των ψυχοθεραπευτικών θεμάτων πού συνδέονται με ψυχικά τραύματα. Ενδεικτικά θεραπευτικά πεδία εφαρμογής:     Ανολοκλήρωτες υποθέσεις\,     Ψυχολογικές Πολικότητες & εσωτερικές συγκρούσεις     Υπο-προσωπικότητες\,     Ψυχοσωματικές εντάσεις ή προβλήματα\,     Όνειρα\,     Σχέσεις & θεραπεία Ζεύγους     Εσωτερικό Παιδί και ψυχικά τραύματα     Προγονικά τραύματα και “φορτία”   Για Μια Βαθύτερη Ματιά στην Σωματικά Επικεντρωμένη Τεχνική της Άδειας Καρέκλας  (Σ.Ε. Τ.Α.Κ.)  Πατήστε ΕΔΩ     Για μια πρώτη γνωριμία με τη μεθοδολογία της  Σωματικά Επικεντρωμένης Ψυχοθεραπείας Gestalt   Ακολουθούν  3  βιντεοσκοπημένα εισαγωγικά Εκπαιδευτικά Σεμινάρια:   1ο "Εισαγωγή στη Σωματικά Επικεντρωμένη Τεχνική της Άδειας Καρέκλας - Gestalt» Πατήστε ΕΔΩ για να το παρακολουθήσετε 2ο   "Επανορθωτική Ψυχοθεραπεία Τραύματος & Σ. Ε. Τεχνική της Άδειας Καρέκλας –Gestalt" Για να παρακολουθήσετε το Σεμινάριο_ Πατήστε ΕΔΩ  3ο  "ΨΥΧΟΘΕΡΑΠΕΙΑ ΤΡΑΥΜΑΤΟΣ & Βασικές Αρχές της Σωματικά Επικεντρωμένης Ψυχοθεραπείας GESTALT"          Για να παρακολουθήσετε το 1ο Βίντεο_ Πατήστε ΕΔΩ               Για να παρακολουθήσετε το 2ο Βίντεο_ Πατήστε ΕΔΩ       Unity Energetics Institute   Στοιχεία επικοινωνίας : Τηλέφωνα  :  6936 776333\, 6908 511807\, 210 9916096        Συνοπτική Παρουσίαση της 4ήμερης Επαγγελματικής Εκπαίδευσης Σωματικά Επικεντρωμένη Τεχνική της Άδειας Καρέκλας  (Σ.Ε. Τ.Α.Κ.)   Είναι μια πολύ περιεκτική εκπαίδευση ψυχοθεραπείας που καλύπτει μεγάλο εύρος θεραπευτικών θεμάτων. Από τις πρώτες ώρες της εκπαίδευσης οι ψυχοσωματικές αισθήσεις\, οι ψυχοθεραπευτικές λειτουργίες της Αναπνοής & Σώματος και οι Μορφο-Διαταξικές προβολικές ιδιότητες αναδεικνύονται στο θεραπευτικό προσκήνιο και καταλαμβάνουν την πολύτιμη θέση που τους αρμόζει στην κλασική «Τεχνική της Άδειας Καρέκλας».   Την τελευταία ημέρα διδάσκεται ένας οργανικός τρόπος ενοποίησης και ένα οργανωμένο πλαίσιο σύνθεσης για την συνένωση τους όλων των παρακάτω θεωρητικών και μεθοδολογικών γνώσεων για την γένεση της "Σωματικά Επικεντρωμένης Τεχνικής της Άδειας Καρέκλας". Αυτό το νέο ενιαίο δυναμικό θεραπευτικό εργαλείο (Σ.Ε. Τ.Α.Κ.) αποδίδει τα μέγιστα για την εις βάθος Ψυχοθεραπεία του Ατομικού & Προγονικού Τραύματος που είναι ο κεντρικός του στόχος.   Δίνεται μεγάλη έμφαση στην μεθοδική και ενδελεχή κατάρτιση επί όλων των τεχνικών λεπτομερειών.    ​​ ​​ ​​ ​​ ​​ ​​ ​​ ​​ ​​ ​​ ​​ ​​ ​​ ​​ ​​ ​​ ​​ ​​ ​​ ​​ ​​ ​​ ​​ ​​ ​​ ​​ ​​ ​​ ​​ ​​ ​​ ​​ ​​ ​​ ​​ ​​ ​​ ​​ ​​ ​​ ​​ ​​ ​​ ​​ ​​ ​​ ​​ ​​ ​​ ​​ ​​ ​​ ​​ ​​ ​​ ​​ ​​ ​​ ​​ ​​ ​​ ​​ ​​ ​​ ​​ ​​ ​​ ​​ ​​ ​​ ​​ ​​ ​​ ​​ ​​ ​​ ​​ ​​ ​​ ​​ ​​ ​​ ​​ ​​ ​​ ​​ ​​ ​​ ​​ ​​ ​​ ​​ ​​ ​​ ​​ ​​ ​​ ​​ ​​ ​​ ​​ ​​ ​​ ​​ ​​ ​​ ​​ ​​ ​​ ​​ ​​ ​​ ​​ ​​ ​​ ​​ ​​ ​​ ​​ ​​ ​​​​    Περιεχόμενα      Η Επαγγελματική Εκπαίδευση στη Σ.Ε.Τ.Ά.Κ. έχει δομηθεί γύρω από τις 4 εκπαιδευτικές ενότητες:   1    ΘΕΩΡΗΤΙΚΕΣ ΒΑΣΕΙΣ: Ανασκόπηση σημαντικών θεωρητικών & μεθοδολογικών αρχών της κλασσικής Θεραπείας Gestalt και της Σωματικής ψυχοθεραπείας. 2      Η ΤΕΧΝΙΚΗ ΤΗΣ ΑΔΕΙΑΣ ΚΑΡΕΚΛΑΣ  &  Η ΓΛΩΣΣΑ ΑΥΤΟ-ΕΥΘΥΝΗΣ (Κλασσική Θεραπεία Gestalt) o  Η «Γλώσσα της Παρούσης Στιγμής και της Αυτό-Ευθύνης» της κλασσικής Θεραπείας Gestalt ως η γλώσσα που προάγει την ενδυνάμωση και την ανάληψη ευθύνης. o  Η κλασσική Τεχνική της Άδειας Καρέκλας για την εξωτερίκευση\, αναπαράστασή και επεξεργασία του καταπιεσμένου ψυχικού υλικού. 3    Η ΧΡΗΣΗ ΤΗΣ ΑΝΑΠΝΟΗΣ ΓΙΑ ΤΗΝ ΑΝΑΔΙΑΡΘΡΩΣΗ  &  ΕΝΔΥΝΑΜΩΣΗ ΤΟΥ ΤΡΑΥΜΑΤΙΣΜΕΝΟΥ ΨΥΧΙΚΟΥ ΠΥΡΗΝΑ  (Ραϊχική Σωματική Ψυχοθεραπεία) o  Ψυχοσωματικές Τεχνικές & Παρεμβάσεις για το Άνοιγμα - Απελευθέρωση της Αναπνοής με στόχους την Εμβάθυνση στα βαθύτερα στρώματα του τραύματος και την ενδυνάμωση του θεραπευόμενου ώστε να ανταπεξέρχεται ψυχικά. Εργασία στην Ύπτια θέση. o  Εφαρμογή 10 τεχνικών απελευθέρωσης της αναπνοής στην καθιστή ή στην όρθια στάση. 4    ΣΩΜΑΤΙΚΑ ΕΠΙΚΕΝΤΡΩΜΕΝΗ ΤΕΧΝΙΚΗ ΤΗΣ ΆΔΕΙΑΣ ΚΑΡΕΚΛΑΣ (Σ.Ε.Τ.Α.Κ.) ως το αποτέλεσμα της ενοποίησης των 3 παραπάνω ενοτήτων εντός του θεωρητικού και μεθοδολογικού πλαισίου της προσέγγισης «Σωματικά Επικεντρωμένη Ψυχοθεραπεία Gestalt».   Αποτελέσματα   Στόχος της 4ήμερης Εκπαίδευσης στην «Σωματικά Επικεντρωμένη Τεχνική της Άδειας Καρέκλας» είναι οι επαγγελματίες ψυχικής υγείας να κατακτήσουν την:      Ικανότητα επιτυχούς εφαρμογής της Σ.Ε.Τ.Α.Κ. σε μεγάλη γκάμα θεραπευτικών πεδίων.      Δυνατότητα άμεσης ενσωμάτωσης των εργαλείων της Σ.Ε.Τ.Α.Κ. στη θεραπευτική τους πρακτική.      Ικανότητα διαχείρισης συγκινησιακών διεργασιών έως το επίπεδο Ήπιας - Μετρίας ψυχικής Φόρτισης.   Επιπλέον\, λόγω της βαθιάς ψυχοθεραπευτικής φύσης του Εκπαιδευτικού Βιωματικού Σεμιναρίου\, ένα πρόσθετο όφελος για τον εκπαιδευόμενο είναι η προσωπική του ανάπτυξη & θεραπεία μέσα από την ψυχοθεραπευτική επεξεργασία που συντελείται εντός των εκπαιδευτικών δράσεων.   Για να δείτε την Επισκόπηση των Περιεχομένων Πατήστε ΕΔΩ   Για να δείτε την ΑΝΑΛΥΤΙΚΗ Περιγραφή των Περιεχομένων Πατήστε ΕΔΩ      ​​ ​​ ​​ ​​ ​​ ​​ ​​ ​​ ​​ ​​ ​​ ​​ ​​ ​​ ​​ ​​ ​​ ​​ ​​ ​​ ​​ ​​ ​​ ​​ ​​ ​​ ​​ ​​ ​​ ​​ ​​ ​​ ​​ ​​ ​​ ​​ ​​ ​​ ​​ ​​ ​​ ​​ ​​ ​​ ​​ ​​ ​​ ​​ ​​ ​​ ​​ ​​ ​​ ​​ ​​ ​​ ​​ ​​ ​​ ​​ ​​ ​​ ​​ ​​ ​​ ​​ ​​ ​​ ​​ ​​ ​​ ​​ ​​ ​​ ​​ ​​ ​​ ​​ ​​ ​​ ​​ ​​ ​​ ​​ ​​ ​​ ​​ ​​ ​​ ​​ ​​ ​​ ​​ ​​ ​​ ​​ ​​ ​​ ​​ ​​ ​​ ​​ ​​ ​​ ​​ ​​ ​​ ​​​​     Προσδοκώμενα Εκπαιδευτικά Αποτελέσματα της 4ήμερης επαγγελματικής εκπαίδευσης στη Σωματικά Επικεντρωμένη Τεχνική της Άδειας Καρέκλας     Η εκπαίδευση έχει σχεδιαστεί να είναι εντατική\, βιωματική\, πολύ περιεκτική και να ακολουθεί μια συστηματική εκπαιδευτική διαδικασία έτσι ώστε με την ολοκλήρωσή της οι συμμετέχοντες να αποκτούν τις παρακάτω θεραπευτικές γνώσεις και δεξιότητες:      1.     Καλή κατανόηση των βασικών θεωρητικών αρχών της κλασσικής Θεραπείας Gestalt.    2.     Ιδιαίτερα καλή και σε βάθος γνώση της «Process Oriented μεθοδολογίας»\, της «Θεωρίας του Παράδοξου των Αλλαγών» και των «Πειραμάτων Gestalt» (σημαντικό κληροδότημα του Fritz Perls στη ψυχοθεραπεία)\, εμπεδωμένα μέσα στο πλαίσιο της πρακτικής εξάσκησης εντός της εκπαίδευσης.    3.     Κατανόηση σε βάθος όλων των περιπτώσεων της «Γλώσσας της Παρούσης Στιγμής & της Αυτό-Ευθύνης».  Ικανότητα άμεσης αντίληψης των γλωσσικών αποκλίσεων και ασυνείδητης μετάθεσης ευθύνης. Ευχέρεια διορθωτικών παρεμβάσεων\, προτείνοντας την κατάλληλη γλωσσική αλλαγή\, για την αύξηση της αυτοεπίγνωσης του θεραπευόμενου και του επιπέδου φόρτισης της συνεδρίας.    4.     Ευχέρεια χρήσης της κλασσικής Τεχνικής της Άδειας Καρέκλας.    5.     Κατανόηση της ιδιαίτερης σημασία του σπλαχνικού ιστού και του Εσωτερικού Σπλαχνικού Καναλιού ως την περιοχή αποτύπωσης των ανεπίλυτων πρωταρχικών τραυματικών εμπειριών και των παρελκόμενων ανεπεξέργαστων υπολειμμάτων της ψυχικής ενέργειας και επομένως ως την πλέον κατάλληλη περιοχή για την βίωση του συναισθηματικού υλικού που ο θεραπευόμενος τείνει να αποφεύγει.    6.     Βιωματική κατανόηση και ενσωμάτωση στη ψυχοθεραπευτική πράξη της σωματικής και ιδιαιτέρως της σπλαχνικής βίωσης των συναισθημάτων έχοντας όντως διαπιστώσει οι ίδιοι τη μέγιστη επίδραση που έχουν στην εμβάθυνση της ψυχοθεραπευτικής διαδικασίας.    7.     Κατανόηση της ιδιαίτερης σημασίας της αυξημένης Βιο-Ενεργειακής φόρτισης του θεραπευόμενου κατά την θεραπεία και της ακαριαία συνεπαγόμενης εμβάθυνσης της δυναμικής της ψυχοθεραπευτικής διαδικασίας. Διεύρυνση ικανότητας για ψυχοθεραπεία σε περιβάλλον αυξημένης ψυχικής φόρτισης.    8.     Θεωρητική και βιωματική κατανόηση της άρρηκτης σχέσης μεταξύ αναπνοής και ψυχικών τραυμάτων καθώς και μεταξύ αναπνοής και της δυναμικής για εμβάθυνση της ψυχοθεραπευτικής διαδικασίας.     9.       Δεξιότητα στην πρακτική εφαρμογή πρότυπης μεθοδολογίας 9 / 10 τεχνικών -παρεμβάσεων  (που επενεργούν σε κομβικά μέρη του σώματος) για το Άνοιγμα - Απελευθέρωση της Αναπνοής. Έτσι ώστε να παρεμβαίνουν ακαριαία στην ψυχική δυναμική της συνεδρίας καθώς και στα επίπεδα της Βιο-Ενεργειακής φόρτισης του θεραπευόμενου\, δυνατότητες που οι εκπαιδευόμενοι διαπιστώνουν βιωματικά οι ίδιοι και που στο τέλος της εκπαίδευσης θεωρούν ως δεδομένες.  10.    Εξαιρετικά καλή χρήση της Σωματικά Επικεντρωμένη Τεχνική της Άδειας Καρέκλας για την εξωτερίκευση του ψυχικού υλικού και την αναπαράστασή του. Ευχέρεια εφαρμογής της τεχνικής σε ποικίλα θεραπευτικά πεδία (πολικότητες\, υπο-προσωπικότητες\, Εσωτερικό Παιδί\, ανολοκλήρωτες υποθέσεις\, όνειρα\, ψυχοσωματικά συμπτώματα\, εσωτερικές συγκρούσεις\, ψυχικά τραύματα κ.α.).  11.    Ευχέρεια χρήσης των 3 από τους 5 θεραπευτικούς άξονες (Παρόντος Χρόνου\, Ψυχοδυναμικού Βάθους και άξονας της Ατομικής Ενδυνάμωσης) που ενυπάρχουν στην Σωματικά Επικεντρωμένη Τεχνική της Άδειας Καρέκλας αντί​​ του ενός θεραπευτικού άξονα στον οποίον εργάζεται η Τεχνικής της Άδειας Καρέκλας κλασσικά (Παρόντος Χρόνου).  12.    Κατανόηση των διαφορών μεταξύ Θεραπευτικής Αναδρομής και Παλινδρόμησης όπως και των προϋποθέσεων για την αποφυγή του ψυχικού επανατραυματισμού πού μία εξ αυτών είναι η Ενδυνάμωση του θεραπευόμενου. Συγκεκριμένες δεξιότητες και τεχνικές όπως και ένα μεθοδολογικό πλαίσιο για την συστηματική και σε βάθος ενίσχυση της Ενδυνάμωσης του\, τουλάχιστον στα κομβικά σημεία της θεραπευτικής διαδικασίας.  13.    Ευχέρεια αντίληψης των ψυχοσωματικών μηνυμάτων της Γλώσσας του Σώματος και άνεση στη χρήση κατάλληλων τεχνικών για την θεραπευτική αξιοποίηση των σωματικών κινήσεων και εκφράσεων.     Πολυεπίπεδη Διδακτική Μεθοδολογία   -  Άρτια Εκπαιδευτικά Αποτελέσματα  -     Μέσα από ζωντανές θεραπευτικές επιδείξεις\, εκτεταμένη πρακτική εξάσκηση και τη χρήση παραδειγμάτων\, οι εκπαιδευόμενοι κατανοούν ενδελεχώς  τη Σωματικά Επικεντρωμένη Τεχνική της Άδειας Καρέκλας και την ενσωματώνουν εύκολα στη δικιά τους θεραπευτική προσέγγιση…   Η συγκεκριμένη Επαγγελματική Εκπαίδευση είναι τόσο θεωρητική\, όσο και βαθιά βιωματική και βασίζεται στην αναλυτική και σε βάθος παρουσίαση της μεθοδολογίας. Διαρθρώθηκε βάση τους παρακάτω 6+1 άξονες δόμησης της Διδακτικής Μεθοδολογίας που διασφαλίζουν την απόκτηση όλης της απαραίτητης γνώσης και πρακτικής εμπειρίας: 1    Φάση Προετοιμασίας 2    Ζωντανές Εισηγήσεις 3    Ζωντανές Θεραπευτικές Επιδείξεις της θεωρίας & μεθοδολογίας που διδάχθηκε. 4    Clinical Practice Section 5      Συζήτηση-ανάλυση & Συμπεράσματα 6    Προσωπική Ανάπτυξη & Θεραπεία + 7    Φάση Αφομοίωσης Μετά Επιπρόσθετα\, μεγάλο μέρος των μαθημάτων/της διδασκαλίας μαγνητοσκοπείται και οι σπουδαστές έχουν δυνατότητα να κάνουν επανάληψη\, μέσω του μαγνητοσκοπημένου υλικού.    *Για να δείτε πιο Αναλυτικά τη ΔΙΔΑΚΤΙΚΗ ΜΕΘΟΔΟΛΟΓΊΑ Πατήστε ΕΔΩ     Η διδακτική μεθοδολογία μας προτρέπει τους σπουδαστές να έχουν ενεργητική συμμετοχή και κριτική ματιά     Βιογραφικό Εκπαιδευτή Ο Ε. Λάζαρης είναι πτυχιούχος ψυχολογίας του πανεπιστημίου Brunel του Λονδίνου (1983)\, και Σωματικός Ψυχοθεραπευτής με εμπειρία 35 ετών. Έχει εξειδικευτεί στη Νεο-Ραϊχική μέθοδο Σωματικής Ψυχοθεραπείας Radix. Παράλληλα έχει εκπαιδευτεί σε Ινστιτούτα του Λονδίνου και της Γερμανίας σε πολλές προσεγγίσεις και μεθόδους Ανθρωπιστικής και Νεο-Ραϊχικής Ψυχοθεραπείας: Radix\, Bodymind Therapy\, Bodynamic Therapy\, Gestalt Therapy\, Primal Integration\, Αλληλο-Συμβουλευτική κ.α. (1981-1988) καθώς και στο Bodywork: Postural Integration\, Pulsing κ.α. (1982-1984). Από το 1984 μέχρι σήμερα ασχολείται με εμψύχωση εντατικών μαραθώνιων προσωπικής ανάπτυξης και με διδασκαλία εκπαιδευτικών σεμιναρίων στην Ελλάδα\, την Κύπρο\, την Αγγλία και την Αυστρία. Είναι συγγραφέας βιβλίων και άρθρων\, εμπνευστής\, δημιουργός και εκπαιδευτής της Ψυχο-Ενεργειακής Θεραπείας\, του Ψυχο-Ενεργειακού BodyWork (από το 1986) και του Unity Energetics. Το 1986 ίδρυσε το “ΚΕΝΤΡΟ ΑΝΘΡΩΠΙΣΤΙΚΗΣ ΚΑΙ ΝΕΟ-ΡΑΪΧΙΚΗΣ ΨΥΧΟΛΟΓΙΑΣ- ΨΥΧΟΘΕΡΑ-ΠΕΙΑΣ”\, το οποίο ανέπτυξε πρωτοποριακή δράση\, και το 1992 ίδρυσε το Κέντρο προσωπικής ανάπτυξης και επαγγελματικών εκπαιδεύσεων “ΔΙΟΔΟΣ”.       Δίδακτρα για τη 3-4ήμερη Επαγγελματική Εκπαίδευση Σωματικά Επικεντρωμένη Τεχνική της Άδειας Καρέκλας  (Σ.Ε. Τ.Α.Κ.)   Συμμετοχές με έγκαιρη εγγραφή: 165 € (Κόστος μη έγκαιρης εγγραφής: 180 €)   Ειδική Τιμή για προπτυχιακούς & μεταπτυχιακούς φοιτητές (με επίδειξη Ακαδημαϊκής Ταυτότητας) με έγκαιρη εγγραφή: 120 € (Κόστος μη έγκαιρης εγγραφής: 135 €)           Βεβαίωση Εκπαίδευσης   Με την ολοκλήρωση χορηγείται Βεβαίωση Παρακολούθησης Εκπαιδευτικού Σεμιναρίου ή Βεβαίωση Παρακολούθησης Επιμορφωτικού Σεμιναρίου στην​​ «Σωματικά Επικεντρωμένη Τεχνική της Άδειας Καρέκλας»\, ανάλογα με τη συμμετοχή ή όχι σε κάποιες πρόσθετες εκπαιδευτικές δράσεις όπως η συμμετοχή στο Εργαστήριο Εξάσκησης της Μεθοδολογίας.     Πατήστε ΕΔΩ για να συμπληρώσετε τη ΦΟΡΜΑ ΕΝΔΙΑΦΕΡΟΝΤΟΣ     Η 4ήμερη αυτή εκπαίδευση ενδείκνυται για όσους επιθυμούν να έχουν μια ουσιαστική και βιωματική γνωριμία με την προσέγγιση Σ.Ε.ΨΥ.G. πριν αποφασίσουν να εγγραφούν σε ένα ολοκληρωμένο Πρόγραμμα Σπουδών\, καθώς θα αποκτήσουν μια ολοκληρωμένη εικόνα για την καινοτόμα αυτή ψυχοθεραπευτική προσέγγιση αλλά και για τη πολυδιάστατη και πολυεπίπεδη διδακτική μας μεθοδολογία.    Επιπρόσθετα\, το εκπαιδευτικό 4ήμερο εμπεριέχει την πεμπτουσία της μεθοδολογικής φιλοσοφίας της Σ.Ε.ΨΥ.G. και ενυπάρχει σε όλα τα προσφερόμενα Προγράμματα Σπουδών\, ως το πρώτο εκπαιδευτικό βήμα για τη Σωματικά Επικεντρωμένη Ψυχοθεραπεία Gestalt.   Δυνατότητες Συνέχισης…   Δυνατότητες συνέχισης…   Για όσους θέλουν περισσότερη πρακτική εξάσκηση  ή/και  να συμπληρώσουν την κατάρτιση τους η εκπαίδευση συνεχίζεται με την συμμετοχή... 1      Σε 3 συναντήσεις του φροντιστηριακού τύπου Εργαστήριου Εξάσκησης της Μεθοδολογίας\, με σκοπό την πληρέστερη εμπέδωση των ασκήσεων\, τεχνικών\, θεραπευτικών διαδικασιών & της μεθοδολογίας που διδάχθηκαν καθώς και την επίλυση τυχόν εναπομείναντων τεχνικών αποριών. Το εργαστήριο επιβλέπει και εποπτεύει ο επόπτης καθηγητής. Επιβλεπόμενα Εργαστήρια πραγματοποιούνται προς το παρόν σε Αθήνα και Θεσσαλονίκη. Μπορούμε να τα οργανώσουμε επίσης στην Πάτρα\, Κρήτη\, & Κύπρο. 2    Στην επόμενη αυτοτελή 4ήμερη επαγγελματική εκπαίδευση. 3    Στον Βασικό Εκπαιδευτικό Κύκλο Σ.Ε.ΨΥ.G. 4    Στις ολοκληρωμένες σπουδές Ψυχοθεραπείας ή Συμβουλευτικής (2\,5-4ετούς φοίτησης).   Ολοκληρωμένη Επαγγελματική Εκπαίδευση στην Σωματικά Επικεντρωμένη Τεχνική της Άδειας Καρέκλας  (Σ.Ε. Τ.Α.Κ.)         Πατήστε ΕΔΩ     Προγράμματα Σπουδών Σύντομης Διάρκειας Σ.Ε.ΨΥ.G.   ->  Ολοκληρωμένη Επαγγελματική Κατάρτιση              (12 - 16 μηνών) (Foundation + Πρόγραμμα Κλινικής Πρακτικής)   ->  Επαγγελματική Κατάρτιση Βασικού Επιπέδου         (6-9 μηνών) (Foundation)   + 3 επιλογές αυτοδύναμης Επιμόρφωσης       με μεγάλη ευελιξία παρακολούθησης   ->   Βασικός Εκπαιδευτικός Κύκλος Σ.Ε.ΨΥ.G.   (5 - 7 μηνών)  -> Ολοκληρωμένοι Κύκλοι Μαθημάτων  Αυτόνομης  Παρακολούθησης ->  Αυτοτελή Εκπαιδευτικά Σεμινάρια   Δυνατότητα συνέχισης της φοίτησης στα Προγράμματα Σπουδών Ψυχοθεραπείας ή Συμβουλευτικής.                 Γιατί να επιλέξω να εκπαιδευτώ στην προσέγγιση  Σωματικά Επικεντρωμένη Ψυχοθεραπεία Gestalt (Σ.Ε.ΨΥ.G.) read more        ​​ ​​ ​​ ​​ ​​ ​​ ​​ ​​ ​​ ​​ ​​ ​​ ​​ ​​ ​​ ​​ ​​ ​​ ​​ ​​ ​​ ​​ ​​ ​​ ​​ ​​ ​​ ​​ ​​ ​​ ​​ ​​ ​​ ​​ ​​ ​​ ​​ ​​ ​​ ​​ ​​ ​​ ​​ ​​ ​​ ​​ ​​ ​​ ​​ ​​ ​​ ​​ ​​ ​​ ​​ ​​ ​​ ​​ ​​ ​​ ​​ ​​ ​​ ​​ ​​ ​​ ​​ ​​ ​​ ​​ ​​ ​​ ​​ ​​ ​​ ​​ ​​ ​​ ​​ ​​ ​​ ​​ ​​ ​​ ​​ ​​ ​​ ​​ ​​ ​​ ​​ ​​ ​​ ​​ ​​ ​​ ​​ ​​ ​​ ​​ ​​ ​​ ​​ ​​ ​​ ​​ ​​ ​​ ​​ ​​ ​​ ​​ ​​ ​​ ​​ ​​ ​​ ​​ ​​ ​​ ​​ ​​ ​​ ​​ ​​ ​​ ​​ ​​ ​​ ​​ ​​ ​​ ​​ ​​​​        Πατήστε ΕΔΩ για να συμπληρώσετε τη ΦΟΡΜΑ ΕΝΔΙΑΦΕΡΟΝΤΟΣ   Unity Energetics Institute     ΣΠΟΥΔΕΣ ΥΨΗΛΟΥ ΕΠΙΠΕΔΟΥ & ΑΜΕΣΗΣ ΑΠΟΤΕΛΕΣΜΑΤΙΚΟΤΗΤΑΣ   Στοιχεία επικοινωνίας : Τηλέφωνα  :  6936 776333\, 6908 511807\, 210 9916096 Viber call : 0030 6936 776333 info@unityenergetics.org\, apolonos23@gmail.com www.unityenergetics.org          ===================================== Για να κάνετε unsubscribe σας παρακαλούμε να μας ενημερώσετε στο e-mail apolonos23@gmail.com. Σας ευχαριστούμε =====================================       
URL:https://unityenergetics.org/ekdilosi/thessaloniki-3-4imeri-viomatiki-epangelmatiki-ekpaidefsi-stin-somatika-epikentromeni-techniki-tis-adeias-kareklas/2023-09-29/
LOCATION:ΘΕΣΣΑΛΟΝΙΚΗ – ΚΕΝΤΡΟ\, Πολυτεχνείου 37\, ΘΕΣΣΑΛΟΝΙΚΗ\, Ελλάδα
CATEGORIES:Αυτοτελή Σεμινάρια
ATTACH;FMTTYPE=image/png:https://unityenergetics.org/wp-content/uploads/2022/11/Επαγγελματικές-Σπουδές-Σωματικά-Επικεντρωμένης-Ψυχοθεραπείας-Gestalt-22.png
END:VEVENT
END:VCALENDAR